BEGIN:VCALENDAR
VERSION:2.0
PRODID:-//DJK Waldbüttelbrunn Handball - ECPv6.15.20//NONSGML v1.0//EN
CALSCALE:GREGORIAN
METHOD:PUBLISH
X-ORIGINAL-URL:https://djk-waldbuettelbrunn-handball.de
X-WR-CALDESC:Veranstaltungen für DJK Waldbüttelbrunn Handball
REFRESH-INTERVAL;VALUE=DURATION:PT1H
X-Robots-Tag:noindex
X-PUBLISHED-TTL:PT1H
BEGIN:VTIMEZONE
TZID:Europe/Berlin
BEGIN:DAYLIGHT
TZOFFSETFROM:+0100
TZOFFSETTO:+0200
TZNAME:CEST
DTSTART:20240331T010000
END:DAYLIGHT
BEGIN:STANDARD
TZOFFSETFROM:+0200
TZOFFSETTO:+0100
TZNAME:CET
DTSTART:20241027T010000
END:STANDARD
BEGIN:DAYLIGHT
TZOFFSETFROM:+0100
TZOFFSETTO:+0200
TZNAME:CEST
DTSTART:20250330T010000
END:DAYLIGHT
BEGIN:STANDARD
TZOFFSETFROM:+0200
TZOFFSETTO:+0100
TZNAME:CET
DTSTART:20251026T010000
END:STANDARD
BEGIN:DAYLIGHT
TZOFFSETFROM:+0100
TZOFFSETTO:+0200
TZNAME:CEST
DTSTART:20260329T010000
END:DAYLIGHT
BEGIN:STANDARD
TZOFFSETFROM:+0200
TZOFFSETTO:+0100
TZNAME:CET
DTSTART:20261025T010000
END:STANDARD
END:VTIMEZONE
BEGIN:VEVENT
DTSTART;TZID=Europe/Berlin:20251221T111500
DTEND;TZID=Europe/Berlin:20251221T120000
DTSTAMP:20260419T152437
CREATED:20161014T123158Z
LAST-MODIFIED:20251023T095549Z
UID:3561-1766315700-1766318400@djk-waldbuettelbrunn-handball.de
SUMMARY:mD III:  DJK  - TSV Partenstein
DESCRIPTION:
URL:https://djk-waldbuettelbrunn-handball.de/event/damen-i-tsv-partenstein/
LOCATION:Ballsporthalle Waldbüttelbrunn\, Am Sumpfler 5\, Waldbüttelbrunn\, Bayern\, 97297\, Deutschland
END:VEVENT
BEGIN:VEVENT
DTSTART;TZID=Europe/Berlin:20251221T130000
DTEND;TZID=Europe/Berlin:20251221T140000
DTSTAMP:20260419T152437
CREATED:20240827T093448Z
LAST-MODIFIED:20251031T144256Z
UID:17820-1766322000-1766325600@djk-waldbuettelbrunn-handball.de
SUMMARY:mD I:  DJK  - TV Gerolzhofen
DESCRIPTION:
URL:https://djk-waldbuettelbrunn-handball.de/event/md-ii-djk-tg-hoechberg/
LOCATION:Ballsporthalle Waldbüttelbrunn\, Am Sumpfler 5\, Waldbüttelbrunn\, Bayern\, 97297\, Deutschland
END:VEVENT
END:VCALENDAR