BEGIN:VCALENDAR
VERSION:2.0
PRODID:-//DJK Waldbüttelbrunn Handball - ECPv6.15.20//NONSGML v1.0//EN
CALSCALE:GREGORIAN
METHOD:PUBLISH
X-WR-CALNAME:DJK Waldbüttelbrunn Handball
X-ORIGINAL-URL:https://djk-waldbuettelbrunn-handball.de
X-WR-CALDESC:Veranstaltungen für DJK Waldbüttelbrunn Handball
REFRESH-INTERVAL;VALUE=DURATION:PT1H
X-Robots-Tag:noindex
X-PUBLISHED-TTL:PT1H
BEGIN:VTIMEZONE
TZID:Europe/Berlin
BEGIN:DAYLIGHT
TZOFFSETFROM:+0100
TZOFFSETTO:+0200
TZNAME:CEST
DTSTART:20250330T010000
END:DAYLIGHT
BEGIN:STANDARD
TZOFFSETFROM:+0200
TZOFFSETTO:+0100
TZNAME:CET
DTSTART:20251026T010000
END:STANDARD
BEGIN:DAYLIGHT
TZOFFSETFROM:+0100
TZOFFSETTO:+0200
TZNAME:CEST
DTSTART:20260329T010000
END:DAYLIGHT
BEGIN:STANDARD
TZOFFSETFROM:+0200
TZOFFSETTO:+0100
TZNAME:CET
DTSTART:20261025T010000
END:STANDARD
BEGIN:DAYLIGHT
TZOFFSETFROM:+0100
TZOFFSETTO:+0200
TZNAME:CEST
DTSTART:20270328T010000
END:DAYLIGHT
BEGIN:STANDARD
TZOFFSETFROM:+0200
TZOFFSETTO:+0100
TZNAME:CET
DTSTART:20271031T010000
END:STANDARD
END:VTIMEZONE
BEGIN:VEVENT
DTSTART;TZID=Europe/Berlin:20260111T123000
DTEND;TZID=Europe/Berlin:20260111T140000
DTSTAMP:20260419T164231
CREATED:20241112T113854Z
LAST-MODIFIED:20251101T125611Z
UID:18124-1768134600-1768140000@djk-waldbuettelbrunn-handball.de
SUMMARY:mC:  DJK  - SG Neutraubling/Regensburg
DESCRIPTION:
URL:https://djk-waldbuettelbrunn-handball.de/event/mc-djk-tg-landshut/
LOCATION:Ballsporthalle Waldbüttelbrunn\, Am Sumpfler 5\, Waldbüttelbrunn\, Bayern\, 97297\, Deutschland
END:VEVENT
BEGIN:VEVENT
DTSTART;TZID=Europe/Berlin:20260111T143000
DTEND;TZID=Europe/Berlin:20260111T160000
DTSTAMP:20260419T164231
CREATED:20221211T175508Z
LAST-MODIFIED:20251101T125858Z
UID:14725-1768141800-1768147200@djk-waldbuettelbrunn-handball.de
SUMMARY:mA:  TG H  - Haspo Bayreuth
DESCRIPTION:
URL:https://djk-waldbuettelbrunn-handball.de/event/ma-jugend-djk-haspo-bayreuth/
LOCATION:Ballsporthalle Waldbüttelbrunn\, Am Sumpfler 5\, Waldbüttelbrunn\, Bayern\, 97297\, Deutschland
END:VEVENT
BEGIN:VEVENT
DTSTART;TZID=Europe/Berlin:20260111T163000
DTEND;TZID=Europe/Berlin:20260111T180000
DTSTAMP:20260419T164231
CREATED:20171016T110159Z
LAST-MODIFIED:20251101T130041Z
UID:5705-1768149000-1768154400@djk-waldbuettelbrunn-handball.de
SUMMARY:M II:  DJK  - HSV Hochfranken
DESCRIPTION:
URL:https://djk-waldbuettelbrunn-handball.de/event/maenner-ii-djk-mhv-schweinfurt/
LOCATION:Ballsporthalle Waldbüttelbrunn\, Am Sumpfler 5\, Waldbüttelbrunn\, Bayern\, 97297\, Deutschland
END:VEVENT
END:VCALENDAR