BEGIN:VCALENDAR
VERSION:2.0
PRODID:-//DJK Waldbüttelbrunn Handball - ECPv6.15.20//NONSGML v1.0//EN
CALSCALE:GREGORIAN
METHOD:PUBLISH
X-WR-CALNAME:DJK Waldbüttelbrunn Handball
X-ORIGINAL-URL:https://djk-waldbuettelbrunn-handball.de
X-WR-CALDESC:Veranstaltungen für DJK Waldbüttelbrunn Handball
REFRESH-INTERVAL;VALUE=DURATION:PT1H
X-Robots-Tag:noindex
X-PUBLISHED-TTL:PT1H
BEGIN:VTIMEZONE
TZID:Europe/Berlin
BEGIN:DAYLIGHT
TZOFFSETFROM:+0100
TZOFFSETTO:+0200
TZNAME:CEST
DTSTART:20250330T010000
END:DAYLIGHT
BEGIN:STANDARD
TZOFFSETFROM:+0200
TZOFFSETTO:+0100
TZNAME:CET
DTSTART:20251026T010000
END:STANDARD
BEGIN:DAYLIGHT
TZOFFSETFROM:+0100
TZOFFSETTO:+0200
TZNAME:CEST
DTSTART:20260329T010000
END:DAYLIGHT
BEGIN:STANDARD
TZOFFSETFROM:+0200
TZOFFSETTO:+0100
TZNAME:CET
DTSTART:20261025T010000
END:STANDARD
BEGIN:DAYLIGHT
TZOFFSETFROM:+0100
TZOFFSETTO:+0200
TZNAME:CEST
DTSTART:20270328T010000
END:DAYLIGHT
BEGIN:STANDARD
TZOFFSETFROM:+0200
TZOFFSETTO:+0100
TZNAME:CET
DTSTART:20271031T010000
END:STANDARD
END:VTIMEZONE
BEGIN:VEVENT
DTSTART;TZID=Europe/Berlin:20260228T113000
DTEND;TZID=Europe/Berlin:20260228T130000
DTSTAMP:20260421T161426
CREATED:20240816T104959Z
LAST-MODIFIED:20260111T154036Z
UID:17771-1772278200-1772283600@djk-waldbuettelbrunn-handball.de
SUMMARY:M III:  DJK  - TG Heidingsfeld III
DESCRIPTION:
URL:https://djk-waldbuettelbrunn-handball.de/event/mc-djk-sg-helmbrechts-muenchberg/
LOCATION:Ballsporthalle Waldbüttelbrunn\, Am Sumpfler 5\, Waldbüttelbrunn\, Bayern\, 97297\, Deutschland
END:VEVENT
BEGIN:VEVENT
DTSTART;TZID=Europe/Berlin:20260228T133000
DTEND;TZID=Europe/Berlin:20260228T143000
DTSTAMP:20260421T161426
CREATED:20171016T112810Z
LAST-MODIFIED:20260222T155327Z
UID:5735-1772285400-1772289000@djk-waldbuettelbrunn-handball.de
SUMMARY:mD I: DJK  - HSC Bad Neustadt
DESCRIPTION:
URL:https://djk-waldbuettelbrunn-handball.de/event/mc-jugend-djk-hsc-bad-neustadt/
LOCATION:Ballsporthalle Waldbüttelbrunn\, Am Sumpfler 5\, Waldbüttelbrunn\, Bayern\, 97297\, Deutschland
END:VEVENT
BEGIN:VEVENT
DTSTART;TZID=Europe/Berlin:20260228T174500
DTEND;TZID=Europe/Berlin:20260228T184500
DTSTAMP:20260421T161426
CREATED:20241204T150436Z
LAST-MODIFIED:20260222T155818Z
UID:18270-1772300700-1772304300@djk-waldbuettelbrunn-handball.de
SUMMARY:mD II:  DJK - TV Ochsenfurt
DESCRIPTION:
URL:https://djk-waldbuettelbrunn-handball.de/event/md-ii-djk-fc-bad-brueckenau/
LOCATION:Ballsporthalle Waldbüttelbrunn\, Am Sumpfler 5\, Waldbüttelbrunn\, Bayern\, 97297\, Deutschland
END:VEVENT
BEGIN:VEVENT
DTSTART;TZID=Europe/Berlin:20260228T193000
DTEND;TZID=Europe/Berlin:20260228T210000
DTSTAMP:20260421T161426
CREATED:20160124T202533Z
LAST-MODIFIED:20260222T160029Z
UID:1977-1772307000-1772312400@djk-waldbuettelbrunn-handball.de
SUMMARY:M I:  DJK  - HSC 2000 Coburg II
DESCRIPTION:
URL:https://djk-waldbuettelbrunn-handball.de/event/herren-i-hsc-2000-coburg-ii/
LOCATION:Ballsporthalle Waldbüttelbrunn\, Am Sumpfler 5\, Waldbüttelbrunn\, Bayern\, 97297\, Deutschland
ORGANIZER;CN="DJK Waldb%C3%BCttelbrunn":MAILTO:kontakt@djk-waldbuettelbrunn-handball.de
END:VEVENT
END:VCALENDAR