BEGIN:VCALENDAR
VERSION:2.0
PRODID:-//DJK Waldbüttelbrunn Handball - ECPv6.15.20//NONSGML v1.0//EN
CALSCALE:GREGORIAN
METHOD:PUBLISH
X-ORIGINAL-URL:https://djk-waldbuettelbrunn-handball.de
X-WR-CALDESC:Veranstaltungen für DJK Waldbüttelbrunn Handball
REFRESH-INTERVAL;VALUE=DURATION:PT1H
X-Robots-Tag:noindex
X-PUBLISHED-TTL:PT1H
BEGIN:VTIMEZONE
TZID:Europe/Berlin
BEGIN:DAYLIGHT
TZOFFSETFROM:+0100
TZOFFSETTO:+0200
TZNAME:CEST
DTSTART:20250330T010000
END:DAYLIGHT
BEGIN:STANDARD
TZOFFSETFROM:+0200
TZOFFSETTO:+0100
TZNAME:CET
DTSTART:20251026T010000
END:STANDARD
BEGIN:DAYLIGHT
TZOFFSETFROM:+0100
TZOFFSETTO:+0200
TZNAME:CEST
DTSTART:20260329T010000
END:DAYLIGHT
BEGIN:STANDARD
TZOFFSETFROM:+0200
TZOFFSETTO:+0100
TZNAME:CET
DTSTART:20261025T010000
END:STANDARD
BEGIN:DAYLIGHT
TZOFFSETFROM:+0100
TZOFFSETTO:+0200
TZNAME:CEST
DTSTART:20270328T010000
END:DAYLIGHT
BEGIN:STANDARD
TZOFFSETFROM:+0200
TZOFFSETTO:+0100
TZNAME:CET
DTSTART:20271031T010000
END:STANDARD
END:VTIMEZONE
BEGIN:VEVENT
DTSTART;TZID=Europe/Berlin:20260425T100000
DTEND;TZID=Europe/Berlin:20260425T173000
DTSTAMP:20260419T180445
CREATED:20170416T122020Z
LAST-MODIFIED:20260323T181004Z
UID:4748-1777111200-1777138200@djk-waldbuettelbrunn-handball.de
SUMMARY:mB: 1.Quali-Turnier Oberliga 2026
DESCRIPTION:
URL:https://djk-waldbuettelbrunn-handball.de/event/uebol-quali-turnier-maennliche-b-jugend/
LOCATION:Ballsporthalle Waldbüttelbrunn\, Am Sumpfler 5\, Waldbüttelbrunn\, Bayern\, 97297\, Deutschland
END:VEVENT
END:VCALENDAR