BEGIN:VCALENDAR
VERSION:2.0
PRODID:-//DJK Waldbüttelbrunn Handball - ECPv6.15.20//NONSGML v1.0//EN
CALSCALE:GREGORIAN
METHOD:PUBLISH
X-WR-CALNAME:DJK Waldbüttelbrunn Handball
X-ORIGINAL-URL:https://djk-waldbuettelbrunn-handball.de
X-WR-CALDESC:Veranstaltungen für DJK Waldbüttelbrunn Handball
REFRESH-INTERVAL;VALUE=DURATION:PT1H
X-Robots-Tag:noindex
X-PUBLISHED-TTL:PT1H
BEGIN:VTIMEZONE
TZID:Europe/Berlin
BEGIN:DAYLIGHT
TZOFFSETFROM:+0100
TZOFFSETTO:+0200
TZNAME:CEST
DTSTART:20250330T010000
END:DAYLIGHT
BEGIN:STANDARD
TZOFFSETFROM:+0200
TZOFFSETTO:+0100
TZNAME:CET
DTSTART:20251026T010000
END:STANDARD
BEGIN:DAYLIGHT
TZOFFSETFROM:+0100
TZOFFSETTO:+0200
TZNAME:CEST
DTSTART:20260329T010000
END:DAYLIGHT
BEGIN:STANDARD
TZOFFSETFROM:+0200
TZOFFSETTO:+0100
TZNAME:CET
DTSTART:20261025T010000
END:STANDARD
BEGIN:DAYLIGHT
TZOFFSETFROM:+0100
TZOFFSETTO:+0200
TZNAME:CEST
DTSTART:20270328T010000
END:DAYLIGHT
BEGIN:STANDARD
TZOFFSETFROM:+0200
TZOFFSETTO:+0100
TZNAME:CET
DTSTART:20271031T010000
END:STANDARD
END:VTIMEZONE
BEGIN:VEVENT
DTSTART;TZID=Europe/Berlin:20260307T133000
DTEND;TZID=Europe/Berlin:20260307T150000
DTSTAMP:20260423T121640
CREATED:20251002T114158Z
LAST-MODIFIED:20260126T143049Z
UID:19364-1772890200-1772895600@djk-waldbuettelbrunn-handball.de
SUMMARY:mA:  TG H  - HSV Hochfranken
DESCRIPTION:
URL:https://djk-waldbuettelbrunn-handball.de/event/ma-tg-h-tsv-ismaning/
LOCATION:Ballsporthalle Waldbüttelbrunn\, Am Sumpfler 5\, Waldbüttelbrunn\, Bayern\, 97297\, Deutschland
END:VEVENT
BEGIN:VEVENT
DTSTART;TZID=Europe/Berlin:20260307T153000
DTEND;TZID=Europe/Berlin:20260307T170000
DTSTAMP:20260423T121640
CREATED:20221211T181647Z
LAST-MODIFIED:20251225T112026Z
UID:14738-1772897400-1772902800@djk-waldbuettelbrunn-handball.de
SUMMARY:mB:  DJK  - TSV Lohr
DESCRIPTION:
URL:https://djk-waldbuettelbrunn-handball.de/event/mb-djk-tuspo-nuernberg/
LOCATION:Ballsporthalle Waldbüttelbrunn\, Am Sumpfler 5\, Waldbüttelbrunn\, Bayern\, 97297\, Deutschland
END:VEVENT
BEGIN:VEVENT
DTSTART;TZID=Europe/Berlin:20260307T173000
DTEND;TZID=Europe/Berlin:20260307T190000
DTSTAMP:20260423T121640
CREATED:20241204T150101Z
LAST-MODIFIED:20260126T142832Z
UID:18262-1772904600-1772910000@djk-waldbuettelbrunn-handball.de
SUMMARY:mC:  DJK  - HV Oberviechtach
DESCRIPTION:
URL:https://djk-waldbuettelbrunn-handball.de/event/mc-djk-sc-freising/
LOCATION:Ballsporthalle Waldbüttelbrunn\, Am Sumpfler 5\, Waldbüttelbrunn\, Bayern\, 97297\, Deutschland
END:VEVENT
BEGIN:VEVENT
DTSTART;TZID=Europe/Berlin:20260307T193000
DTEND;TZID=Europe/Berlin:20260307T210000
DTSTAMP:20260423T121640
CREATED:20191125T102154Z
LAST-MODIFIED:20260126T143539Z
UID:10592-1772911800-1772917200@djk-waldbuettelbrunn-handball.de
SUMMARY:M II:  DJK  - HC Erlangen III
DESCRIPTION:
URL:https://djk-waldbuettelbrunn-handball.de/event/maenner-i-derby-time-tsv-lohr-djk/
LOCATION:Ballsporthalle Waldbüttelbrunn\, Am Sumpfler 5\, Waldbüttelbrunn\, Bayern\, 97297\, Deutschland
END:VEVENT
BEGIN:VEVENT
DTSTART;TZID=Europe/Berlin:20260308T110000
DTEND;TZID=Europe/Berlin:20260308T150000
DTSTAMP:20260423T121640
CREATED:20241105T195550Z
LAST-MODIFIED:20260121T192652Z
UID:18107-1772967600-1772982000@djk-waldbuettelbrunn-handball.de
SUMMARY:Volleyball Damen:  DJK  -TV Aschaffenburg II;  DJK  - TV Trennfurt III
DESCRIPTION:
URL:https://djk-waldbuettelbrunn-handball.de/event/volleyball-damen-djk-moemlingen/
LOCATION:Ballsporthalle Waldbüttelbrunn\, Am Sumpfler 5\, Waldbüttelbrunn\, Bayern\, 97297\, Deutschland
END:VEVENT
BEGIN:VEVENT
DTSTART;TZID=Europe/Berlin:20260315T104500
DTEND;TZID=Europe/Berlin:20260315T113000
DTSTAMP:20260423T121640
CREATED:20181221T132036Z
LAST-MODIFIED:20260127T095632Z
UID:8750-1773571500-1773574200@djk-waldbuettelbrunn-handball.de
SUMMARY:mD III:  DJK  - TG Höchberg
DESCRIPTION:
URL:https://djk-waldbuettelbrunn-handball.de/event/md-ii-djk-jsg-wuerzburg-lengfeld-2/
LOCATION:Ballsporthalle Waldbüttelbrunn\, Am Sumpfler 5\, Waldbüttelbrunn\, Bayern\, 97297\, Deutschland
END:VEVENT
BEGIN:VEVENT
DTSTART;TZID=Europe/Berlin:20260315T123000
DTEND;TZID=Europe/Berlin:20260315T140000
DTSTAMP:20260423T121640
CREATED:20180728T153400Z
LAST-MODIFIED:20260127T100342Z
UID:7423-1773577800-1773583200@djk-waldbuettelbrunn-handball.de
SUMMARY:mB:  DJK  - TV Dettelbach II
DESCRIPTION:
URL:https://djk-waldbuettelbrunn-handball.de/event/mb-jugend-djk-tv-marktsteft/
LOCATION:Ballsporthalle Waldbüttelbrunn\, Am Sumpfler 5\, Waldbüttelbrunn\, Bayern\, 97297\, Deutschland
END:VEVENT
BEGIN:VEVENT
DTSTART;TZID=Europe/Berlin:20260315T143000
DTEND;TZID=Europe/Berlin:20260315T160000
DTSTAMP:20260423T121640
CREATED:20221211T183912Z
LAST-MODIFIED:20260127T100526Z
UID:14756-1773585000-1773590400@djk-waldbuettelbrunn-handball.de
SUMMARY:mA:  TG H - HBC Nürnberg
DESCRIPTION:
URL:https://djk-waldbuettelbrunn-handball.de/event/ma-djk-hc-sulzb-rosenb/
LOCATION:Ballsporthalle Waldbüttelbrunn\, Am Sumpfler 5\, Waldbüttelbrunn\, Bayern\, 97297\, Deutschland
END:VEVENT
BEGIN:VEVENT
DTSTART;TZID=Europe/Berlin:20260315T163000
DTEND;TZID=Europe/Berlin:20260315T180000
DTSTAMP:20260423T121640
CREATED:20250227T110025Z
LAST-MODIFIED:20260127T100842Z
UID:18549-1773592200-1773597600@djk-waldbuettelbrunn-handball.de
SUMMARY:M I:  DJK - TSV Lohr
DESCRIPTION:
URL:https://djk-waldbuettelbrunn-handball.de/event/m-i-djk-tsv-lohr-derby/
LOCATION:Ballsporthalle Waldbüttelbrunn\, Am Sumpfler 5\, Waldbüttelbrunn\, Bayern\, 97297\, Deutschland
END:VEVENT
BEGIN:VEVENT
DTSTART;TZID=Europe/Berlin:20260321T193000
DTEND;TZID=Europe/Berlin:20260321T210000
DTSTAMP:20260423T121640
CREATED:20240317T120914Z
LAST-MODIFIED:20260127T101020Z
UID:17084-1774121400-1774126800@djk-waldbuettelbrunn-handball.de
SUMMARY:M II: DJK - TV Marktsteft
DESCRIPTION:
URL:https://djk-waldbuettelbrunn-handball.de/event/md-meisterschaftsendspiel-djk-sg-djk-rimpar/
LOCATION:Ballsporthalle Waldbüttelbrunn\, Am Sumpfler 5\, Waldbüttelbrunn\, Bayern\, 97297\, Deutschland
END:VEVENT
BEGIN:VEVENT
DTSTART;TZID=Europe/Berlin:20260322T110000
DTEND;TZID=Europe/Berlin:20260322T123000
DTSTAMP:20260423T121640
CREATED:20260127T101948Z
LAST-MODIFIED:20260127T101948Z
UID:20035-1774177200-1774182600@djk-waldbuettelbrunn-handball.de
SUMMARY:M III:  DJK  - TV Dettelbach II
DESCRIPTION:
URL:https://djk-waldbuettelbrunn-handball.de/event/m-iii-djk-tv-dettelbach-ii/
END:VEVENT
BEGIN:VEVENT
DTSTART;TZID=Europe/Berlin:20260322T110000
DTEND;TZID=Europe/Berlin:20260322T160000
DTSTAMP:20260423T121640
CREATED:20230206T082250Z
LAST-MODIFIED:20260209T182033Z
UID:14937-1774177200-1774195200@djk-waldbuettelbrunn-handball.de
SUMMARY:Wandergruppe: Märzwanderung
DESCRIPTION:
URL:https://djk-waldbuettelbrunn-handball.de/event/wandergruppe-maerzwanderung-2/
LOCATION:DjK Vereinsheim
END:VEVENT
BEGIN:VEVENT
DTSTART;TZID=Europe/Berlin:20260325T150000
DTEND;TZID=Europe/Berlin:20260325T170000
DTSTAMP:20260423T121640
CREATED:20251210T185448Z
LAST-MODIFIED:20251210T185448Z
UID:19821-1774450800-1774458000@djk-waldbuettelbrunn-handball.de
SUMMARY:DJK März Stammtisch
DESCRIPTION:
URL:https://djk-waldbuettelbrunn-handball.de/event/djk-maerz-stammtisch/
LOCATION:DjK Vereinsheim
END:VEVENT
BEGIN:VEVENT
DTSTART;TZID=Europe/Berlin:20260328T193000
DTEND;TZID=Europe/Berlin:20260328T210000
DTSTAMP:20260423T121640
CREATED:20230909T103420Z
LAST-MODIFIED:20260127T102311Z
UID:15975-1774726200-1774731600@djk-waldbuettelbrunn-handball.de
SUMMARY:M I: DJK  - HaSpo Bayreuth
DESCRIPTION:
URL:https://djk-waldbuettelbrunn-handball.de/event/ma-saisonstart-djk-hc-neustadt-aisch/
LOCATION:Ballsporthalle Waldbüttelbrunn\, Am Sumpfler 5\, Waldbüttelbrunn\, Bayern\, 97297\, Deutschland
END:VEVENT
END:VCALENDAR