BEGIN:VCALENDAR
VERSION:2.0
PRODID:-//DJK Waldbüttelbrunn Handball - ECPv6.15.20//NONSGML v1.0//EN
CALSCALE:GREGORIAN
METHOD:PUBLISH
X-ORIGINAL-URL:https://djk-waldbuettelbrunn-handball.de
X-WR-CALDESC:Veranstaltungen für DJK Waldbüttelbrunn Handball
REFRESH-INTERVAL;VALUE=DURATION:PT1H
X-Robots-Tag:noindex
X-PUBLISHED-TTL:PT1H
BEGIN:VTIMEZONE
TZID:Europe/Berlin
BEGIN:DAYLIGHT
TZOFFSETFROM:+0100
TZOFFSETTO:+0200
TZNAME:CEST
DTSTART:20250330T010000
END:DAYLIGHT
BEGIN:STANDARD
TZOFFSETFROM:+0200
TZOFFSETTO:+0100
TZNAME:CET
DTSTART:20251026T010000
END:STANDARD
BEGIN:DAYLIGHT
TZOFFSETFROM:+0100
TZOFFSETTO:+0200
TZNAME:CEST
DTSTART:20260329T010000
END:DAYLIGHT
BEGIN:STANDARD
TZOFFSETFROM:+0200
TZOFFSETTO:+0100
TZNAME:CET
DTSTART:20261025T010000
END:STANDARD
BEGIN:DAYLIGHT
TZOFFSETFROM:+0100
TZOFFSETTO:+0200
TZNAME:CEST
DTSTART:20270328T010000
END:DAYLIGHT
BEGIN:STANDARD
TZOFFSETFROM:+0200
TZOFFSETTO:+0100
TZNAME:CET
DTSTART:20271031T010000
END:STANDARD
END:VTIMEZONE
BEGIN:VEVENT
DTSTART;TZID=Europe/Berlin:20260624T150000
DTEND;TZID=Europe/Berlin:20260624T170000
DTSTAMP:20260420T045557
CREATED:20240428T113046Z
LAST-MODIFIED:20251210T190240Z
UID:17297-1782313200-1782320400@djk-waldbuettelbrunn-handball.de
SUMMARY:DJK Juni Stammtisch
DESCRIPTION:
URL:https://djk-waldbuettelbrunn-handball.de/event/djk-juni-stammtisch-2/
LOCATION:DjK Vereinsheim
END:VEVENT
BEGIN:VEVENT
DTSTART;TZID=Europe/Berlin:20260626T173000
DTEND;TZID=Europe/Berlin:20260626T220000
DTSTAMP:20260420T045557
CREATED:20250418T110704Z
LAST-MODIFIED:20260408T192019Z
UID:18734-1782495000-1782511200@djk-waldbuettelbrunn-handball.de
SUMMARY:Handball-Pong-Turnier
DESCRIPTION:
URL:https://djk-waldbuettelbrunn-handball.de/event/handball-pong-turnier/
LOCATION:DJK Gelände\, Seeweg 30\, Waldbüttelbrunn\, 97297\, Deutschland
END:VEVENT
BEGIN:VEVENT
DTSTART;TZID=Europe/Berlin:20260627T170000
DTEND;TZID=Europe/Berlin:20260627T230000
DTSTAMP:20260420T045557
CREATED:20230501T165655Z
LAST-MODIFIED:20251210T192617Z
UID:15488-1782579600-1782601200@djk-waldbuettelbrunn-handball.de
SUMMARY:Johannisfeuer  2026
DESCRIPTION:
URL:https://djk-waldbuettelbrunn-handball.de/event/johannisfeuer-2023/
LOCATION:DJK Gelände\, Seeweg 30\, Waldbüttelbrunn\, 97297\, Deutschland
END:VEVENT
BEGIN:VEVENT
DTSTART;TZID=Europe/Berlin:20260628T090000
DTEND;TZID=Europe/Berlin:20260628T160000
DTSTAMP:20260420T045557
CREATED:20240421T171920Z
LAST-MODIFIED:20251210T192914Z
UID:17246-1782637200-1782662400@djk-waldbuettelbrunn-handball.de
SUMMARY:Gerhard-Schlenz-Rasenturnier
DESCRIPTION:
URL:https://djk-waldbuettelbrunn-handball.de/event/gerhard-schlenz-rasenturnier/
LOCATION:DjK Vereinsheim
END:VEVENT
END:VCALENDAR