BEGIN:VCALENDAR
VERSION:2.0
PRODID:-//DJK Waldbüttelbrunn Handball - ECPv6.15.20//NONSGML v1.0//EN
CALSCALE:GREGORIAN
METHOD:PUBLISH
X-WR-CALNAME:DJK Waldbüttelbrunn Handball
X-ORIGINAL-URL:https://djk-waldbuettelbrunn-handball.de
X-WR-CALDESC:Veranstaltungen für DJK Waldbüttelbrunn Handball
REFRESH-INTERVAL;VALUE=DURATION:PT1H
X-Robots-Tag:noindex
X-PUBLISHED-TTL:PT1H
BEGIN:VTIMEZONE
TZID:Europe/Berlin
BEGIN:DAYLIGHT
TZOFFSETFROM:+0100
TZOFFSETTO:+0200
TZNAME:CEST
DTSTART:20250330T010000
END:DAYLIGHT
BEGIN:STANDARD
TZOFFSETFROM:+0200
TZOFFSETTO:+0100
TZNAME:CET
DTSTART:20251026T010000
END:STANDARD
BEGIN:DAYLIGHT
TZOFFSETFROM:+0100
TZOFFSETTO:+0200
TZNAME:CEST
DTSTART:20260329T010000
END:DAYLIGHT
BEGIN:STANDARD
TZOFFSETFROM:+0200
TZOFFSETTO:+0100
TZNAME:CET
DTSTART:20261025T010000
END:STANDARD
BEGIN:DAYLIGHT
TZOFFSETFROM:+0100
TZOFFSETTO:+0200
TZNAME:CEST
DTSTART:20270328T010000
END:DAYLIGHT
BEGIN:STANDARD
TZOFFSETFROM:+0200
TZOFFSETTO:+0100
TZNAME:CET
DTSTART:20271031T010000
END:STANDARD
END:VTIMEZONE
BEGIN:VEVENT
DTSTART;TZID=Europe/Berlin:20261028T150000
DTEND;TZID=Europe/Berlin:20261028T170000
DTSTAMP:20260422T105235
CREATED:20230228T203354Z
LAST-MODIFIED:20251210T190919Z
UID:15094-1793199600-1793206800@djk-waldbuettelbrunn-handball.de
SUMMARY:DJK Oktober Stammtisch
DESCRIPTION:
URL:https://djk-waldbuettelbrunn-handball.de/event/djk-oktober-stammtisch/
LOCATION:DjK Vereinsheim
END:VEVENT
BEGIN:VEVENT
DTSTART;TZID=Europe/Berlin:20261031T180000
DTEND;TZID=Europe/Berlin:20261031T220000
DTSTAMP:20260422T105235
CREATED:20251210T193502Z
LAST-MODIFIED:20251219T104732Z
UID:19837-1793469600-1793484000@djk-waldbuettelbrunn-handball.de
SUMMARY:Halloween-Fete
DESCRIPTION:
URL:https://djk-waldbuettelbrunn-handball.de/event/halloween-fete/
LOCATION:DJK Gelände\, Seeweg 30\, Waldbüttelbrunn\, 97297\, Deutschland
END:VEVENT
END:VCALENDAR